BEGIN:VCALENDAR
VERSION:2.0
PRODID:-//Tukios.com/
BEGIN:VEVENT
UID:c0a8d2a6-5b76-4c3c-8d96-73cb77a959e6@www.czboyer.com
DTSTAMP:20260422T002746Z
DTSTART:20260424T140000Z
DTEND:20260424T160000Z
SUMMARY:Visitation
DESCRIPTION:
URL:https://www.czboyer.com/obituaries/cassidy-sally-ann-hawkins
LOCATION: 313 Benham St. PO Box 236 Bonne Terre MO 63628
GEO:37.923247;-90.5492351
END:VEVENT
END:VCALENDAR