BEGIN:VCALENDAR
VERSION:2.0
PRODID:-//Tukios.com/
BEGIN:VEVENT
UID:f42573be-665e-4f54-a955-c34c6bb3f523@www.czboyer.com
DTSTAMP:20260422T002946Z
DTSTART:20260424T164500Z
DTEND:20260424T174500Z
SUMMARY:Burial
DESCRIPTION:
URL:https://www.czboyer.com/obituaries/cassidy-sally-ann-hawkins
LOCATION: 6776 Vo-Tec Rd  Bonne Terre MO 63628
GEO:37.892297;-90.5134209
END:VEVENT
END:VCALENDAR