BEGIN:VCALENDAR
VERSION:2.0
PRODID:-//Tukios.com/
BEGIN:VEVENT
UID:1a690522-652a-4559-be46-c67d38f7745c@www.czboyer.com
DTSTAMP:20260426T004025Z
DTSTART:20260428T140000Z
DTEND:20260428T150000Z
SUMMARY:Visitation
DESCRIPTION:
URL:https://www.czboyer.com/obituaries/charles-cook
LOCATION:C.Z. Boyer Funeral Home – Taylor Chapel 111 East Liberty 
	Street  Farmington MO 63640
GEO:37.7813503;-90.419256
END:VEVENT
END:VCALENDAR