BEGIN:VCALENDAR
VERSION:2.0
PRODID:-//Tukios.com/
BEGIN:VEVENT
UID:65e9b902-3965-472b-8603-c56af38cc9cf@www.czboyer.com
DTSTAMP:20260420T222130Z
DTSTART:20260422T160000Z
DTEND:20260422T170000Z
SUMMARY:Visitation
DESCRIPTION:
URL:https://www.czboyer.com/obituaries/mary-pendley
LOCATION: 111 E Liberty St PO box 12 Farmington MO 63640
GEO:37.7813503;-90.419256
END:VEVENT
END:VCALENDAR