BEGIN:VCALENDAR
VERSION:2.0
PRODID:-//Tukios.com/
BEGIN:VEVENT
UID:b6b97001-0c3f-426b-997b-39e6b3db9a0e@www.czboyer.com
DTSTAMP:20260420T222319Z
DTSTART:20260422T170000Z
DTEND:20260422T180000Z
SUMMARY:Funeral Service
DESCRIPTION:
URL:https://www.czboyer.com/obituaries/mary-pendley
LOCATION: 111 E Liberty St PO box 12 Farmington MO 63640
GEO:37.7813503;-90.419256
END:VEVENT
END:VCALENDAR