BEGIN:VCALENDAR
VERSION:2.0
PRODID:-//Tukios.com/
BEGIN:VEVENT
UID:3a12ff1b-af85-40f8-9c2f-f308e7452d22@www.czboyer.com
DTSTAMP:20260420T222507Z
DTSTART:20260422T181500Z
DTEND:20260422T191500Z
SUMMARY:Graveside Service
DESCRIPTION:
URL:https://www.czboyer.com/obituaries/mary-pendley
LOCATION: 5229 Westmeyer Rd.  Farmington MO 63640
GEO:37.7641112;-90.4006347
END:VEVENT
END:VCALENDAR