BEGIN:VCALENDAR
VERSION:2.0
PRODID:-//Tukios.com/
BEGIN:VEVENT
UID:13c85672-83b6-4e8e-900b-3795c7827920@www.czboyer.com
DTSTAMP:20260420T195541Z
DTSTART:20260423T220000Z
DTEND:20260424T010000Z
SUMMARY:Visitation
DESCRIPTION:
URL:https://www.czboyer.com/obituaries/mildred-mann
LOCATION: 312 S Valle St  Pilot Knob MO 63663
GEO:37.6190559;-90.6421772
END:VEVENT
END:VCALENDAR