BEGIN:VCALENDAR
VERSION:2.0
PRODID:-//Tukios.com/
BEGIN:VEVENT
UID:b4ec813f-6df0-4c43-8c35-b0cb488f0e44@www.czboyer.com
DTSTAMP:20260420T195541Z
DTSTART:20260424T160000Z
DTEND:20260424T170000Z
SUMMARY:Funeral Service
DESCRIPTION:
URL:https://www.czboyer.com/obituaries/mildred-mann
LOCATION: 312 S Valle St  Pilot Knob MO 63663
GEO:37.6190559;-90.6421772
END:VEVENT
END:VCALENDAR