BEGIN:VCALENDAR
VERSION:2.0
PRODID:-//Tukios.com/
BEGIN:VEVENT
UID:146178ab-fde8-4090-bbc0-679b336df2cb@www.czboyer.com
DTSTAMP:20260420T195456Z
DTSTART:20260424T180000Z
DTEND:20260424T190000Z
SUMMARY:Interment
DESCRIPTION:
URL:https://www.czboyer.com/obituaries/mildred-mann
LOCATION:Mann Cemetery County Road  Annapolis MO 63620
GEO:37.3603272;-90.6976197
END:VEVENT
END:VCALENDAR