BEGIN:VCALENDAR
VERSION:2.0
PRODID:-//Tukios.com/
BEGIN:VEVENT
UID:cf1a066b-a403-445f-b917-27df12a3cf58@www.czboyer.com
DTSTAMP:20260422T165805Z
DTSTART:20260425T160000Z
DTEND:20260425T180000Z
SUMMARY:Visitation
DESCRIPTION:
URL:https://www.czboyer.com/obituaries/oby-laplant
LOCATION: 101 North Mine La Motte Avenue  Fredericktown MO 63645
GEO:37.5599382;-90.2925062
END:VEVENT
END:VCALENDAR