BEGIN:VCALENDAR
VERSION:2.0
PRODID:-//Tukios.com/
BEGIN:VEVENT
UID:60f8951d-9803-4273-8c6b-4984094af49b@www.czboyer.com
DTSTAMP:20260422T165550Z
DTSTART:20260425T180000Z
DTEND:20260425T190000Z
SUMMARY:Funeral Service
DESCRIPTION:
URL:https://www.czboyer.com/obituaries/oby-laplant
LOCATION: 101 N Mine La Motte Ave  Fredericktown MO 63645
GEO:37.5599382;-90.2925062
END:VEVENT
END:VCALENDAR