BEGIN:VCALENDAR
VERSION:2.0
PRODID:-//Tukios.com/
BEGIN:VEVENT
UID:5c567cf8-7402-4bb1-bf25-65ee8652b73e@www.czboyer.com
DTSTAMP:20260422T165020Z
DTSTART:20260425T190000Z
DTEND:20260425T193000Z
SUMMARY:Interment
DESCRIPTION:
URL:https://www.czboyer.com/obituaries/oby-laplant
LOCATION: 6287 State Rt. E  Fredericktown MO 63645
GEO:37.5124797;-90.3963219
END:VEVENT
END:VCALENDAR