BEGIN:VCALENDAR
VERSION:2.0
PRODID:-//Tukios.com/
BEGIN:VEVENT
UID:862dd3d4-cfda-4e9a-b383-20975d151ffd@www.czboyer.com
DTSTAMP:20260420T230402Z
DTSTART:20260501T220000Z
DTEND:20260502T000000Z
SUMMARY:Visitation
DESCRIPTION:
URL:https://www.czboyer.com/obituaries/ruth-followell
LOCATION: 111 E Liberty St PO box 12 Farmington MO 63640
GEO:37.7813503;-90.419256
END:VEVENT
END:VCALENDAR