BEGIN:VCALENDAR
VERSION:2.0
PRODID:-//Tukios.com/
BEGIN:VEVENT
UID:f2041dd3-229f-4575-afba-ff36a864cd6c@www.czboyer.com
DTSTAMP:20260420T225915Z
DTSTART:20260502T000000Z
DTEND:20260502T010000Z
SUMMARY:Memorial Service
DESCRIPTION:
URL:https://www.czboyer.com/obituaries/ruth-followell
LOCATION: 111 E Liberty St PO box 12 Farmington MO 63640
GEO:37.7813503;-90.419256
END:VEVENT
END:VCALENDAR