BEGIN:VCALENDAR
VERSION:2.0
PRODID:-//Tukios.com/
BEGIN:VEVENT
UID:0bc0e049-2ba6-426b-b972-f1992a576ae0@www.czboyer.com
DTSTAMP:20260420T184356Z
DTSTART:20260424T210000Z
DTEND:20260424T230000Z
SUMMARY:Visitation
DESCRIPTION:
URL:https://www.czboyer.com/obituaries/terry-galloway
LOCATION: 111 E Liberty St PO box 12 Farmington MO 63640
GEO:37.7813503;-90.419256
END:VEVENT
END:VCALENDAR